Workbook

Sheet RATES
A1: EAAS | B1: FY 23/24 | E1: Proposed rates 2024/2025:
A2: Benefit Cost per person
A4: Type: | B4: Total: | C4: Agency Contribution: | D4: Per Person Cost: (monthly)
A6: UPMC for Individual | B6: 669.92 | C6: 492.08 | D6: 177.84
A8: UPMC Employee and 1 child | B8: 1668.1 | C8: 492.08 | D8: 1176.02
A10: UPMC Employee and children | B10: 1853 | C10: 492.08 | D10: 1360.92
A12: UPMC Family | B12: 1853 | C12: 492.08 | D12: 136.92
A14: United Concordia Dental 155347027 | B14: 26.52 | C14: 22.69 | D14: 3.83
A16: United Concodia Dental 155347027 Family | B16: 81.45 | C16: 22.69 | D16: 58.76
A18: United Concordia Dental 180834000 | B18: 35.38 | C18: 22.69 | D18: 12.69
A20: United Concordia Dental 180834000 Family | B20: 103.92 | C20: 22.69 | D20: 81.23
A22: MetLife Vision Employee | B22: 6.96 | C22: 2.75 | D22: 4.21
A24: MetLife Vision Employee and spouse | B24: 13.94 | C24: 2.75 | D24: 11.19
A26: MetLife Vision Employee and Children | B26: 11.8 | C26: 2.75 | D26: 9.05
A28: Met Life Visiion - Family | B28: 19.46 | C28: 2.75 | D28: 16.71

Sheet 70-30 split
C1: EMPLOYEE
A2: Age | B2: Staff Member: | C2: Total Cost Monthly: | D2: Total Agency Cost Monthly (proposed) | E2: Employee Cost Monthly (proposed) | F2: 70% (Agency) Monthly | G2: 30% (Employee) Monthly | H2: Above Current EE | I2: Annualized ER | J2: Annualized EE | K2: Employee Per Pay | L2: TOTAL ANNUAL PREMIUM
A4: 60 | B4: Anderson | C4: 874.18 | D4: 477.87 | E4: 427.79 | F4: =(C4*0.7) -> 611.926 | G4: =(C4*0.3) -> 262.254 | H4: 93.86 | I4: =(F4*12) -> 7343.112 | J4: =(G4*12) -> 3147.048 | K4: =(J4/26) -> 121.04031 | L4: =(C4*12) -> 10490.16 | M4: =SUM(I4:J4) -> 10490.16
A5: 47 | B5: Augustine | C5: 584.2 | D5: 477.87 | E5: 0 | F5: =(C5*0.7) -> 408.94 | G5: =(C5*0.3) -> 175.26 | H5: 93.86 | I5: =(F5*12) -> 4907.28 | J5: =(G5*12) -> 2103.12 | K5: =(J5/26) -> 80.889231 | L5: =(C5*12) -> 7010.4 | M5: =SUM(I5:J5) -> 7010.4
A6: 52 | B6: Aul | C6: 628.74 | D6: 477.87 | E6: 180.87 | F6: =(C6*0.7) -> 440.118 | G6: =(C6*0.3) -> 188.622 | H6: 93.86 | I6: =(F6*12) -> 5281.416 | J6: =(G6*12) -> 2263.464 | K6: =(J6/26) -> 87.056308 | L6: =(C6*12) -> 7544.88 | M6: =SUM(I6:J6) -> 7544.88
A7: 27 | B7: Cooks | C7: 337.56 | D7: 349.72 | E7: 0 | F7: =(C7*0.7) -> 236.292 | G7: =(C7*0.3) -> 101.268 | H7: 93.86 | I7: =(F7*12) -> 2835.504 | J7: =(G7*12) -> 1215.216 | K7: =(J7/26) -> 46.739077 | L7: =(C7*12) -> 4050.72 | M7: =SUM(I7:J7) -> 4050.72
A8: 33 | B8: Faupel | C8: 385.88 | D8: 399.77 | E8: 0 | F8: =(C8*0.7) -> 270.116 | G8: =(C8*0.3) -> 115.764 | H8: 93.86 | I8: =(F8*12) -> 3241.392 | J8: =(G8*12) -> 1389.168 | K8: =(J8/26) -> 53.429538 | L8: =(C8*12) -> 4630.56 | M8: =SUM(I8:J8) -> 4630.56
A9: 29 | B9: Johnson | C9: 360.43 | D9: 373.41 | E9: 0 | F9: =(C9*0.7) -> 252.301 | G9: =(C9*0.3) -> 108.129 | H9: 93.86 | I9: =(F9*12) -> 3027.612 | J9: =(G9*12) -> 1297.548 | K9: =(J9/26) -> 49.905692 | L9: =(C9*12) -> 4325.16 | M9: =SUM(I9:J9) -> 4325.16
A10: 65 | B10: Phillips | C10: 966.3 | D10: 477.87 | E10: 523.23 | F10: =(C10*0.7) -> 676.41 | G10: =(C10*0.3) -> 289.89 | H10: 93.86 | I10: =(F10*12) -> 8116.92 | J10: =(G10*12) -> 3478.68 | K10: =(J10/26) -> 133.79538 | L10: =(C10*12) -> 11595.6 | M10: =SUM(I10:J10) -> 11595.6
A11: 64 | B11: Richardson | C11: 966.3 | D11: 477.87 | E11: 523.23 | F11: =(C11*0.7) -> 676.41 | G11: =(C11*0.3) -> 289.89 | H11: 93.86 | I11: =(F11*12) -> 8116.92 | J11: =(G11*12) -> 3478.68 | K11: =(J11/26) -> 133.79538 | L11: =(C11*12) -> 11595.6 | M11: =SUM(I11:J11) -> 11595.6
A12: 48 | B12: Sninsky | C12: 526.63 | D12: 477.87 | E12: 67.73 | F12: =(C12*0.7) -> 368.641 | G12: =(C12*0.3) -> 157.989 | H12: 93.86 | I12: =(F12*12) -> 4423.692 | J12: =(G12*12) -> 1895.868 | K12: =(J12/26) -> 72.918 | L12: =(C12*12) -> 6319.56 | M12: =SUM(I12:J12) -> 6319.56
A13: 46 | B13: Togneri | C13: 483.15 | D13: 477.87 | E13: 22.68 | F13: =(C13*0.7) -> 338.205 | G13: =(C13*0.3) -> 144.945 | H13: 93.86 | I13: =(F13*12) -> 4058.46 | J13: =(G13*12) -> 1739.34 | K13: =(J13/26) -> 66.897692 | L13: =(C13*12) -> 5797.8 | M13: =SUM(I13:J13) -> 5797.8
A14: 58 | B14: Tokar | C14: 820.71 | D14: 477.87 | E14: 372.4 | F14: =(C14*0.7) -> 574.497 | G14: =(C14*0.3) -> 246.213 | H14: 93.86 | I14: =(F14*12) -> 6893.964 | J14: =(G14*12) -> 2954.556 | K14: =(J14/26) -> 113.63677 | L14: =(C14*12) -> 9848.52 | M14: =SUM(I14:J14) -> 9848.52
A15: 43 | B15: Trovato | C15: 437.09 | D15: 452.83 | E15: 0 | F15: =(C15*0.7) -> 305.963 | G15: =(C15*0.3) -> 131.127 | H15: 93.86 | I15: =(F15*12) -> 3671.556 | J15: =(G15*12) -> 1573.524 | K15: =(J15/26) -> 60.520154 | L15: =(C15*12) -> 5245.08 | M15: =SUM(I15:J15) -> 5245.08
A16: 56 | B16: Wood | C16: 872.01 | D16: 477.87 | E16: 300.66 | F16: =(C16*0.7) -> 610.407 | G16: =(C16*0.3) -> 261.603 | H16: 93.86 | I16: =(F16*12) -> 7324.884 | J16: =(G16*12) -> 3139.236 | K16: =(J16/26) -> 120.73985 | L16: =(C16*12) -> 10464.12 | M16: =SUM(I16:J16) -> 10464.12
A17: 64 | B17: TBH | C17: 966.3 | F17: =(C17*0.7) -> 676.41 | G17: =(C17*0.3) -> 289.89 | I17: =(F17*12) -> 8116.92 | J17: =(G17*12) -> 3478.68 | K17: =(J17/26) -> 133.79538 | L17: =(C17*12) -> 11595.6 | M17: =SUM(I17:J17) -> 11595.6
A18: 64 | B18: TBH | C18: 966.3 | F18: =(C18*0.7) -> 676.41 | G18: =(C18*0.3) -> 289.89 | I18: =(F18*12) -> 8116.92 | J18: =(G18*12) -> 3478.68 | K18: =(J18/26) -> 133.79538 | L18: =(C18*12) -> 11595.6 | M18: =SUM(I18:J18) -> 11595.6
A19: 64 | B19: TBH | C19: 966.3 | F19: =(C19*0.7) -> 676.41 | G19: =(C19*0.3) -> 289.89 | I19: =(F19*12) -> 8116.92 | J19: =(G19*12) -> 3478.68 | K19: =(J19/26) -> 133.79538 | L19: =(C19*12) -> 11595.6 | M19: =SUM(I19:J19) -> 11595.6
A20: 64 | B20: TBH | C20: 966.3 | F20: =(C20*0.7) -> 676.41 | G20: =(C20*0.3) -> 289.89 | I20: =(F20*12) -> 8116.92 | J20: =(G20*12) -> 3478.68 | K20: =(J20/26) -> 133.79538 | L20: =(C20*12) -> 11595.6 | M20: =SUM(I20:J20) -> 11595.6
C22: =SUM(C4:C21) -> 12108.38 | F22: =SUM(F4:F21) -> 8475.866 | G22: =SUM(G4:G21) -> 3632.514 | H22: =SUM(H4:H21) -> 1220.18 | I22: =SUM(I4:I21) -> 101710.39 | J22: =SUM(J4:J21) -> 43590.168 | K22: =SUM(K4:K21) -> 1676.5449 | L22: =SUM(L4:L21) -> 145300.56 | M22: =SUM(M4:M21) -> 145300.56
D27: =SUM(C4:C16) -> 8243.18 | E27: =SUM(D4:D16) -> 5876.56 | G27: =SUM(F4:F16) -> 5770.226
G28: Total Annual ER @ 70%: 69,983.76 | I28: Current EE: 177.84 | J28: =SUM(J4:J27) -> 87180.336
C30: EMPLOYEE | D30: GOLD EPO | E30: NO HSA
D31: Total Cost: | E31: Total Agency Cost Monthly (proposed) | F31: Total Employee Cost Monthly (proposed) | G31: 70% (Agency) | H31: 30% (Employee) | I31: Above Current EE
C32: Anderson | D32: 874.18 | E32: 447.87 | F32: 426.31 | G32: 611.93 | H32: 262.25 | I32: 84.41
C33: Augustine* | D33: 584.2 | E33: 447.87 | F33: 136.33 | G33: 408.94 | H33: 175.26
C34: Aul | D34: 628.74 | E34: 447.87 | F34: 180.87 | G34: 440.12 | H34: 188.62 | I34: 10.78
C35: Cooks | D35: 337.56 | E35: 337.56 | F35: 0 | G35: 236.29 | H35: 101.27
C36: Faupel | D36: 385.88 | E36: 385.88 | F36: 0 | G36: 270.12 | H36: 115.76
C37: Johnson | D37: 360.43 | E37: 360.43 | F37: 0 | G37: 252.3 | H37: 108.13
C38: Phillips | D38: 966.3 | E38: 447.87 | F38: 518.43 | G38: 676.41 | H38: 289.89 | I38: 112.05
C39: Richardson | D39: 966.3 | E39: 447.87 | F39: 518.43 | G39: 676.41 | H39: 289.89 | I39: 112.05
C40: Sninsky | D40: 526.63 | E40: 447.87 | F40: 78.79 | G40: 368.64 | H40: 157.99
C41: Togneri | D41: 483.15 | E41: 447.87 | F41: 35.28 | G41: 338.2 | H41: 144.95
C42: Tokar | D42: 820.71 | E42: 447.87 | F42: 372.84 | G42: 574.53 | H42: 246.23 | I42: 68.39
C43: Trovato | D43: 437.09 | E43: 437.09 | F43: 0 | G43: 305.96 | H43: 131.13
C44: Wood* | D44: 872.01 | E44: 447.87 | F44: 424.14 | G44: 610.41 | H44: 261.6 | I44: 83.76
D45: =SUM(D32:D44) -> 8243.18 | E45: =SUM(E32:E44) -> 5551.79 | G45: =SUM(G32:G44) -> 5770.26
G46: Total Annual ER @ 70%: $69,243.12
C47: *Westmoreland County | I47: Current EE: 177.84

Sheet 65-35 SPLIT
C1: EMPLOYEE
A2: Age | B2: Staff Member: | C2: Total Cost Monthly: | D2: Total Agency Cost Monthly (proposed) | E2: Employee Cost Monthly (proposed) | F2: 65% (Agency) Monthly | G2: 35% (Employee) Monthly | H2: Above Current EE | I2: Annualized ER | J2: Annualized EE | K2: Employee Per Pay | L2: TOTAL ANNUAL PREMIUM
A4: =('70-30 split'!A4) -> 60 | B4: Anderson | C4: 874.18 | D4: 477.87 | E4: 427.79 | F4: =(C4*0.65) -> 568.217 | G4: =(C4*0.35) -> 305.963 | H4: 93.86 | I4: =(F4*12) -> 6818.604 | J4: =(G4*12) -> 3671.556 | K4: =(J4/26) -> 141.21369 | L4: =(C4*12) -> 10490.16 | M4: =SUM(I4:J4) -> 10490.16
A5: 47 | B5: Augustine | C5: 584.2 | D5: 477.87 | E5: 0 | F5: =(C5*0.65) -> 379.73 | G5: =(C5*0.35) -> 204.47 | H5: 93.86 | I5: =(F5*12) -> 4556.76 | J5: =(G5*12) -> 2453.64 | K5: =(J5/26) -> 94.370769 | L5: =(C5*12) -> 7010.4 | M5: =SUM(I5:J5) -> 7010.4
A6: 52 | B6: Aul | C6: 628.74 | D6: 477.87 | E6: 180.87 | F6: =(C6*0.65) -> 408.681 | G6: =(C6*0.35) -> 220.059 | H6: 93.86 | I6: =(F6*12) -> 4904.172 | J6: =(G6*12) -> 2640.708 | K6: =(J6/26) -> 101.56569 | L6: =(C6*12) -> 7544.88 | M6: =SUM(I6:J6) -> 7544.88
A7: 27 | B7: Cooks | C7: 337.56 | D7: 349.72 | E7: 0 | F7: =(C7*0.65) -> 219.414 | G7: =(C7*0.35) -> 118.146 | H7: 93.86 | I7: =(F7*12) -> 2632.968 | J7: =(G7*12) -> 1417.752 | K7: =(J7/26) -> 54.528923 | L7: =(C7*12) -> 4050.72 | M7: =SUM(I7:J7) -> 4050.72
A8: 33 | B8: Faupel | C8: 385.88 | D8: 399.77 | E8: 0 | F8: =(C8*0.65) -> 250.822 | G8: =(C8*0.35) -> 135.058 | H8: 93.86 | I8: =(F8*12) -> 3009.864 | J8: =(G8*12) -> 1620.696 | K8: =(J8/26) -> 62.334462 | L8: =(C8*12) -> 4630.56 | M8: =SUM(I8:J8) -> 4630.56
A9: =('70-30 split'!A9) -> 29 | B9: Johnson | C9: 360.43 | D9: 373.41 | E9: 0 | F9: =(C9*0.65) -> 234.2795 | G9: =(C9*0.35) -> 126.1505 | H9: 93.86 | I9: =(F9*12) -> 2811.354 | J9: =(G9*12) -> 1513.806 | K9: =(J9/26) -> 58.223308 | L9: =(C9*12) -> 4325.16 | M9: =SUM(I9:J9) -> 4325.16
A10: =('70-30 split'!A10) -> 65 | B10: Phillips | C10: 966.3 | D10: 477.87 | E10: 523.23 | F10: =(C10*0.65) -> 628.095 | G10: =(C10*0.35) -> 338.205 | H10: 93.86 | I10: =(F10*12) -> 7537.14 | J10: =(G10*12) -> 4058.46 | K10: =(J10/26) -> 156.09462 | L10: =(C10*12) -> 11595.6 | M10: =SUM(I10:J10) -> 11595.6
A11: =('70-30 split'!A11) -> 64 | B11: Richardson | C11: 966.3 | D11: 477.87 | E11: 523.23 | F11: =(C11*0.65) -> 628.095 | G11: =(C11*0.35) -> 338.205 | H11: 93.86 | I11: =(F11*12) -> 7537.14 | J11: =(G11*12) -> 4058.46 | K11: =(J11/26) -> 156.09462 | L11: =(C11*12) -> 11595.6 | M11: =SUM(I11:J11) -> 11595.6
A12: 48 | B12: Sninsky | C12: 526.63 | D12: 477.87 | E12: 67.73 | F12: =(C12*0.65) -> 342.3095 | G12: =(C12*0.35) -> 184.3205 | H12: 93.86 | I12: =(F12*12) -> 4107.714 | J12: =(G12*12) -> 2211.846 | K12: =(J12/26) -> 85.071 | L12: =(C12*12) -> 6319.56 | M12: =SUM(I12:J12) -> 6319.56
A13: =('70-30 split'!A13) -> 46 | B13: Togneri | C13: 483.15 | D13: 477.87 | E13: 22.68 | F13: =(C13*0.65) -> 314.0475 | G13: =(C13*0.35) -> 169.1025 | H13: 93.86 | I13: =(F13*12) -> 3768.57 | J13: =(G13*12) -> 2029.23 | K13: =(J13/26) -> 78.047308 | L13: =(C13*12) -> 5797.8 | M13: =SUM(I13:J13) -> 5797.8
A14: 58 | B14: Tokar | C14: 820.71 | D14: 477.87 | E14: 372.4 | F14: =(C14*0.65) -> 533.4615 | G14: =(C14*0.35) -> 287.2485 | H14: 93.86 | I14: =(F14*12) -> 6401.538 | J14: =(G14*12) -> 3446.982 | K14: =(J14/26) -> 132.57623 | L14: =(C14*12) -> 9848.52 | M14: =SUM(I14:J14) -> 9848.52
A15: =('70-30 split'!A15) -> 43 | B15: Trovato | C15: 437.09 | D15: 452.83 | E15: 0 | F15: =(C15*0.65) -> 284.1085 | G15: =(C15*0.35) -> 152.9815 | H15: 93.86 | I15: =(F15*12) -> 3409.302 | J15: =(G15*12) -> 1835.778 | K15: =(J15/26) -> 70.606846 | L15: =(C15*12) -> 5245.08 | M15: =SUM(I15:J15) -> 5245.08
A16: 56 | B16: Wood | C16: 872.01 | D16: 477.87 | E16: 300.66 | F16: =(C16*0.65) -> 566.8065 | G16: =(C16*0.35) -> 305.2035 | H16: 93.86 | I16: =(F16*12) -> 6801.678 | J16: =(G16*12) -> 3662.442 | K16: =(J16/26) -> 140.86315 | L16: =(C16*12) -> 10464.12 | M16: =SUM(I16:J16) -> 10464.12
A17: =('70-30 split'!A17) -> 64 | B17: TBH | C17: 966.3 | F17: =(C17*0.65) -> 628.095 | G17: =(C17*0.35) -> 338.205 | H17: 93.86 | I17: =(F17*12) -> 7537.14 | J17: =(G17*12) -> 4058.46 | K17: =(J17/26) -> 156.09462 | L17: =(C17*12) -> 11595.6 | M17: =SUM(I17:J17) -> 11595.6
A18: =('70-30 split'!A18) -> 64 | B18: TBH | C18: 966.3 | F18: =(C18*0.65) -> 628.095 | G18: =(C18*0.35) -> 338.205 | H18: 93.86 | I18: =(F18*12) -> 7537.14 | J18: =(G18*12) -> 4058.46 | K18: =(J18/26) -> 156.09462 | L18: =(C18*12) -> 11595.6 | M18: =SUM(I18:J18) -> 11595.6
A19: =('70-30 split'!A19) -> 64 | B19: TBH | C19: 966.3 | F19: =(C19*0.65) -> 628.095 | G19: =(C19*0.35) -> 338.205 | H19: 93.86 | I19: =(F19*12) -> 7537.14 | J19: =(G19*12) -> 4058.46 | K19: =(J19/26) -> 156.09462 | L19: =(C19*12) -> 11595.6 | M19: =SUM(I19:J19) -> 11595.6
A20: =('70-30 split'!A20) -> 64 | B20: TBH | C20: 966.3 | F20: =(C20*0.65) -> 628.095 | G20: =(C20*0.35) -> 338.205 | H20: 93.86 | I20: =(F20*12) -> 7537.14 | J20: =(G20*12) -> 4058.46 | K20: =(J20/26) -> 156.09462 | L20: =(C20*12) -> 11595.6 | M20: =SUM(I20:J20) -> 11595.6
C22: =SUM(C4:C21) -> 12108.38 | F22: =SUM(F4:F21) -> 7870.447 | G22: =SUM(G4:G21) -> 4237.933 | H22: =SUM(H4:H21) -> 1595.62 | I22: =SUM(I4:I21) -> 94445.364 | J22: =SUM(J4:J21) -> 50855.196 | K22: =SUM(K4:K21) -> 1955.9691 | L22: =SUM(L4:L21) -> 145300.56 | M22: =SUM(M4:M21) -> 145300.56
D27: =SUM(C4:C16) -> 8243.18 | E27: =SUM(D4:D16) -> 5876.56 | G27: =SUM(F4:F16) -> 5358.067
G28: Total Annual ER @ 70%: 69,983.76 | I28: Current EE: 177.84 | J28: =SUM(J4:J27) -> 101710.39
C30: EMPLOYEE | D30: GOLD EPO | E30: NO HSA
D31: Total Cost: | E31: Total Agency Cost Monthly (proposed) | F31: Total Employee Cost Monthly (proposed) | G31: 70% (Agency) | H31: 30% (Employee) | I31: Above Current EE
C32: Anderson | D32: 874.18 | E32: 447.87 | F32: 426.31 | G32: 611.93 | H32: 262.25 | I32: 84.41
C33: Augustine* | D33: 584.2 | E33: 447.87 | F33: 136.33 | G33: 408.94 | H33: 175.26
C34: Aul | D34: 628.74 | E34: 447.87 | F34: 180.87 | G34: 440.12 | H34: 188.62 | I34: 10.78
C35: Cooks | D35: 337.56 | E35: 337.56 | F35: 0 | G35: 236.29 | H35: 101.27
C36: Faupel | D36: 385.88 | E36: 385.88 | F36: 0 | G36: 270.12 | H36: 115.76
C37: Johnson | D37: 360.43 | E37: 360.43 | F37: 0 | G37: 252.3 | H37: 108.13
C38: Phillips | D38: 966.3 | E38: 447.87 | F38: 518.43 | G38: 676.41 | H38: 289.89 | I38: 112.05
C39: Richardson | D39: 966.3 | E39: 447.87 | F39: 518.43 | G39: 676.41 | H39: 289.89 | I39: 112.05
C40: Sninsky | D40: 526.63 | E40: 447.87 | F40: 78.79 | G40: 368.64 | H40: 157.99
C41: Togneri | D41: 483.15 | E41: 447.87 | F41: 35.28 | G41: 338.2 | H41: 144.95
C42: Tokar | D42: 820.71 | E42: 447.87 | F42: 372.84 | G42: 574.53 | H42: 246.23 | I42: 68.39
C43: Trovato | D43: 437.09 | E43: 437.09 | F43: 0 | G43: 305.96 | H43: 131.13
C44: Wood* | D44: 872.01 | E44: 447.87 | F44: 424.14 | G44: 610.41 | H44: 261.6 | I44: 83.76
D45: =SUM(D32:D44) -> 8243.18 | E45: =SUM(E32:E44) -> 5551.79 | G45: =SUM(G32:G44) -> 5770.26
G46: Total Annual ER @ 70%: $69,243.12
C47: *Westmoreland County | I47: Current EE: 177.84
